BEGIN:VCALENDAR
VERSION:2.0
PRODID:-//Lone Star Park at Grand Prairie - ECPv6.15.16//NONSGML v1.0//EN
CALSCALE:GREGORIAN
METHOD:PUBLISH
X-ORIGINAL-URL:https://www.lonestarpark.com
X-WR-CALDESC:Events for Lone Star Park at Grand Prairie
REFRESH-INTERVAL;VALUE=DURATION:PT1H
X-Robots-Tag:noindex
X-PUBLISHED-TTL:PT1H
BEGIN:VTIMEZONE
TZID:America/Chicago
BEGIN:DAYLIGHT
TZOFFSETFROM:-0600
TZOFFSETTO:-0500
TZNAME:CDT
DTSTART:20250309T080000
END:DAYLIGHT
BEGIN:STANDARD
TZOFFSETFROM:-0500
TZOFFSETTO:-0600
TZNAME:CST
DTSTART:20251102T070000
END:STANDARD
BEGIN:DAYLIGHT
TZOFFSETFROM:-0600
TZOFFSETTO:-0500
TZNAME:CDT
DTSTART:20260308T080000
END:DAYLIGHT
BEGIN:STANDARD
TZOFFSETFROM:-0500
TZOFFSETTO:-0600
TZNAME:CST
DTSTART:20261101T070000
END:STANDARD
BEGIN:DAYLIGHT
TZOFFSETFROM:-0600
TZOFFSETTO:-0500
TZNAME:CDT
DTSTART:20270314T080000
END:DAYLIGHT
BEGIN:STANDARD
TZOFFSETFROM:-0500
TZOFFSETTO:-0600
TZNAME:CST
DTSTART:20271107T070000
END:STANDARD
END:VTIMEZONE
BEGIN:VEVENT
DTSTART;TZID=America/Chicago:20260607T133000
DTEND;TZID=America/Chicago:20260607T180000
DTSTAMP:20260420T115330
CREATED:20250305T033446Z
LAST-MODIFIED:20260310T163553Z
UID:10000194-1780839000-1780855200@www.lonestarpark.com
SUMMARY:Thoroughbred Racing Season
DESCRIPTION:Gates Open: 12:00 p.m.\nFirst Live Race: 1:35 p.m.\nGeneral Admission is just $10 and General Parking is Free!\nClick Here to Purchase Tickets for This Event \nPepsi Can Promotion: Bring any Pepsi Can on Sundays during the Thoroughbred racing Season to receive One (1) Free General Admission and One (1) Free Large Pepsi.* \n*Redeem at East or West entrance. \n  \n  \n  \nSenior Citizen Discount: Seniors 62 years or older will receive One (1) Free General Admission every Sunday during the Thoroughbred racing Season.* \n*Must show valid photo ID. Redeem at East or West entrance. \n  \n  \n \nMilitary Discount: Present your Military ID any Sunday during the Thoroughbred Racing Season and receive One (1) Free General Admission.* \n*Must show valid ID. Redeem at East or West entrance. \n  \n  \n  \n \nStar Player Rewards Star Player Rewards20X Bonus Points: Points earned from wagering on Lone Star Park races are increasing from 2 to 20 additional points per dollar wagered this Season! \nLearn More \n  \n  \nLone Star Park is the only destination in DFW where you can experience the Excitement of Live Sports\, the Thrill of Winning Big and the Majestic Beauty of Thoroughbred Horses doing what they do best! With Tickets starting at just $10\, we’re sure to be your Best Bet for a Good Time at a Great Price! The Horses Are Ready. Are You? \nClick Here to Purchase Tickets for This Event \n 
URL:https://www.lonestarpark.com/event/thoroughbred_2026_day25/
CATEGORIES:Live Thoroughbred Racing,Ticket Discounts
ATTACH;FMTTYPE=image/jpeg:https://www.lonestarpark.com/wp-content/uploads/2026/03/VBO_2026Generic.jpg
END:VEVENT
BEGIN:VEVENT
DTSTART;TZID=America/Chicago:20260613T133000
DTEND;TZID=America/Chicago:20260613T180000
DTSTAMP:20260420T115330
CREATED:20250301T165812Z
LAST-MODIFIED:20260310T172037Z
UID:10000187-1781357400-1781373600@www.lonestarpark.com
SUMMARY:Thoroughbred Racing Season: Free Hat & Lone Star Showcase Day
DESCRIPTION:Gates Open: 12:00 p.m.\nFirst Live Race: 1:35 p.m.\nGeneral Admission is just $10 and General Parking is Free!\nClick Here to Purchase Tickets for This Event \n  \n \n  \nFree Hat Giveaway (First 1\,200 Fans) \nMake sure to arrive early\, as only the first 1\,200 fans in attendance will receive One (1) Free 2026 Lone Star Park Hat!* \n*While supplies last. \n  \n  \n  \n  \n  \n \nLone Star Showcase: We’ve got some of the finest Texas-Bred Thoroughbreds ready to showcase their best effort in a preview to Stars of Texas day in five featured stakes races. \n\n\n\n$75\,000 Lane’s End Danny Shifflett Scholarship Stakes\n$75\,000 Wayne Hanks Memorial Stakes\n$75\,000 Mary Ruyle Stakes\n$75\,000 Ring the Bell Texas Stakes\n$75\,000 Texas Horse Racing Hall of Fame Stakes \n\n\n\n  \n  \n  \n  \n \nStar Player Rewards 20X Bonus Points: Points earned from wagering on Lone Star Park races are increasing from 2 to 20 additional points per dollar wagered this Season! Learn More \n  \n  \n  \nLone Star Park is the only destination in DFW where you can experience the Excitement of Live Sports\, the Thrill of Winning Big and the Majestic Beauty of Thoroughbred Horses doing what they do best! With Tickets starting at just $10\, we’re sure to be your Best Bet for a Good Time at a Great Price! The Horses Are Ready. Are You? \nClick Here to Purchase Tickets for This Event
URL:https://www.lonestarpark.com/event/thoroughbred_2026_day28/
LOCATION:Lone Star Park Grandstand\, 1000 Lone Star Pkwy\, Grand Prairie\, TX\, 75050
CATEGORIES:Giveaways,Live Thoroughbred Racing,Stakes Race(s),Ticket Discounts
ATTACH;FMTTYPE=image/jpeg:https://www.lonestarpark.com/wp-content/uploads/2026/03/VBO_2026Generic.jpg
END:VEVENT
BEGIN:VEVENT
DTSTART;TZID=America/Chicago:20260614T133000
DTEND;TZID=America/Chicago:20260614T180000
DTSTAMP:20260420T115330
CREATED:20260302T021605Z
LAST-MODIFIED:20260310T164302Z
UID:10000221-1781443800-1781460000@www.lonestarpark.com
SUMMARY:Thoroughbred Racing Season
DESCRIPTION:Gates Open: 12:00 p.m.\nFirst Live Race: 1:35 p.m.\nGeneral Admission is just $10 and General Parking is Free!\nClick Here to Purchase Tickets for This Event \nPepsi Can Promotion: Bring any Pepsi Can on Sundays during the Thoroughbred racing Season to receive One (1) Free General Admission and One (1) Free Large Pepsi.* \n*Redeem at East or West entrance. \n  \n  \n  \nSenior Citizen Discount: Seniors 62 years or older will receive One (1) Free General Admission every Sunday during the Thoroughbred racing Season.* \n*Must show valid photo ID. Redeem at East or West entrance. \n  \n  \n \nMilitary Discount: Present your Military ID any Sunday during the Thoroughbred Racing Season and receive One (1) Free General Admission.* \n*Must show valid ID. Redeem at East or West entrance. \n  \n  \n  \n \nStar Player Rewards Star Player Rewards20X Bonus Points: Points earned from wagering on Lone Star Park races are increasing from 2 to 20 additional points per dollar wagered this Season! \nLearn More \n  \n  \nLone Star Park is the only destination in DFW where you can experience the Excitement of Live Sports\, the Thrill of Winning Big and the Majestic Beauty of Thoroughbred Horses doing what they do best! With Tickets starting at just $10\, we’re sure to be your Best Bet for a Good Time at a Great Price! The Horses Are Ready. Are You? \nClick Here to Purchase Tickets for This Event \n 
URL:https://www.lonestarpark.com/event/thoroughbred_2026_29/
CATEGORIES:Live Thoroughbred Racing,Ticket Discounts
ATTACH;FMTTYPE=image/jpeg:https://www.lonestarpark.com/wp-content/uploads/2026/03/VBO_2026Generic.jpg
END:VEVENT
BEGIN:VEVENT
DTSTART;TZID=America/Chicago:20260621T133000
DTEND;TZID=America/Chicago:20260621T180000
DTSTAMP:20260420T115330
CREATED:20250310T213453Z
LAST-MODIFIED:20260310T164814Z
UID:10000214-1782048600-1782064800@www.lonestarpark.com
SUMMARY:Thoroughbred Racing Season: Father's Day
DESCRIPTION:Gates Open: 12:00 p.m.\nFirst Live Race: 1:35 p.m.\nGeneral Admission is just $10 and General Parking is Free!\nClick Here to Purchase Tickets for This Event \nPepsi Can Promotion: Bring any Pepsi Can on Sundays during the Thoroughbred racing Season to receive One (1) Free General Admission and One (1) Free Large Pepsi.* \n*Redeem at East or West entrance. \n  \n  \n  \nSenior Citizen Discount: Seniors 62 years or older will receive One (1) Free General Admission every Sunday during the Thoroughbred racing Season.* \n*Must show valid photo ID. Redeem at East or West entrance. \n  \n  \n \nMilitary Discount: Present your Military ID any Sunday during the Thoroughbred Racing Season and receive One (1) Free General Admission.* \n*Must show valid ID. Redeem at East or West entrance. \n  \n  \n  \n \nStar Player Rewards Star Player Rewards20X Bonus Points: Points earned from wagering on Lone Star Park races are increasing from 2 to 20 additional points per dollar wagered this Season! \nLearn More \n  \n  \nLone Star Park is the only destination in DFW where you can experience the Excitement of Live Sports\, the Thrill of Winning Big and the Majestic Beauty of Thoroughbred Horses doing what they do best! With Tickets starting at just $10\, we’re sure to be your Best Bet for a Good Time at a Great Price! The Horses Are Ready. Are You? \nClick Here to Purchase Tickets for This Event \n 
URL:https://www.lonestarpark.com/event/thoroughbred_2026_day32/
LOCATION:Lone Star Park Grandstand\, 1000 Lone Star Pkwy\, Grand Prairie\, TX\, 75050
CATEGORIES:Live Thoroughbred Racing,Ticket Discounts
ATTACH;FMTTYPE=image/jpeg:https://www.lonestarpark.com/wp-content/uploads/2026/03/VBO_2026Generic.jpg
END:VEVENT
BEGIN:VEVENT
DTSTART;TZID=America/Chicago:20260627T133000
DTEND;TZID=America/Chicago:20260627T180000
DTSTAMP:20260420T115330
CREATED:20250301T170020Z
LAST-MODIFIED:20260310T165116Z
UID:10000188-1782567000-1782583200@www.lonestarpark.com
SUMMARY:Thoroughbred Racing Season: Dollar Day & Summer Turf Festival
DESCRIPTION:Gates Open: 12:00 p.m.\nFirst Live Race: 1:35 p.m.\nGeneral Admission is just $1 and General Parking is FREE\nClick Here to Purchase Tickets for This Event \n  \nSummer Turf Festival: We’ve got four featured open condition Turf Races! \n\n\n\n$250\,000 Texas Turf Classic\n$125\,000 Wasted Tears Stakes\n$125\,000 Grand Prairie Turf Sprint\n$125\,000 Chicken Fried Stakes\n\n\n\n  \n  \n  \n \nDollar Day: Looking for cheap date? We suggest Saturday\, June 27. You’ll enjoy the following all for just $1 each: \n\nGeneral Admission\nLone Star Today Programs\nPepsi\nHot Dogs\nPopcorn\nBEER\n\n*Discounted food & beverages items located on levels 1 and 2 only. \n  \n \nLive Music: We’ll have live music on the Courtyard of Champions Stage from 1 p.m. to 5 p.m.\, featuring Emerald City’s Limelight Band. \n  \n  \n  \n  \n  \n \n  \nNHC Tournament: Compete in our biggest NHC Tournament ever! Click Here for more Information \n  \n  \n \nStar Player Rewards 20X Bonus Points: Points earned from wagering on Lone Star Park races are increasing from 2 to 20 additional points per dollar wagered this Season! Learn More \n  \n  \n  \nLone Star Park is the only destination in DFW where you can experience the Excitement of Live Sports\, the Thrill of Winning Big and the Majestic Beauty of Thoroughbred Horses doing what they do best! With Tickets starting at just $1\, we’re sure to be your Best Bet for a Good Time at a Great Price! The Horses Are Ready. Are You? \nClick Here to Purchase Tickets for This Event
URL:https://www.lonestarpark.com/event/thoroughbred_2026_day34/
LOCATION:Lone Star Park Grandstand\, 1000 Lone Star Pkwy\, Grand Prairie\, TX\, 75050
CATEGORIES:Live Music,Live Thoroughbred Racing,Stakes Race(s),Ticket Discounts
ATTACH;FMTTYPE=image/jpeg:https://www.lonestarpark.com/wp-content/uploads/2026/03/VBO_2026Generic.jpg
END:VEVENT
BEGIN:VEVENT
DTSTART;TZID=America/Chicago:20260628T133000
DTEND;TZID=America/Chicago:20260628T180000
DTSTAMP:20260420T115330
CREATED:20250305T034509Z
LAST-MODIFIED:20260310T165227Z
UID:10000195-1782653400-1782669600@www.lonestarpark.com
SUMMARY:Thoroughbred Racing Season
DESCRIPTION:Gates Open: 12:00 p.m.\nFirst Live Race: 1:35 p.m.\nGeneral Admission is just $10 and General Parking is Free!\nClick Here to Purchase Tickets for This Event \nPepsi Can Promotion: Bring any Pepsi Can on Sundays during the Thoroughbred racing Season to receive One (1) Free General Admission and One (1) Free Large Pepsi.* \n*Redeem at East or West entrance. \n  \n  \n  \nSenior Citizen Discount: Seniors 62 years or older will receive One (1) Free General Admission every Sunday during the Thoroughbred racing Season.* \n*Must show valid photo ID. Redeem at East or West entrance. \n  \n  \n \nMilitary Discount: Present your Military ID any Sunday during the Thoroughbred Racing Season and receive One (1) Free General Admission.* \n*Must show valid ID. Redeem at East or West entrance. \n  \n  \n  \n \nStar Player Rewards Star Player Rewards20X Bonus Points: Points earned from wagering on Lone Star Park races are increasing from 2 to 20 additional points per dollar wagered this Season! \nLearn More \n  \n  \nLone Star Park is the only destination in DFW where you can experience the Excitement of Live Sports\, the Thrill of Winning Big and the Majestic Beauty of Thoroughbred Horses doing what they do best! With Tickets starting at just $10\, we’re sure to be your Best Bet for a Good Time at a Great Price! The Horses Are Ready. Are You? \nClick Here to Purchase Tickets for This Event \n 
URL:https://www.lonestarpark.com/event/thoroughbred_2026_day35/
CATEGORIES:Live Thoroughbred Racing,Ticket Discounts
ATTACH;FMTTYPE=image/jpeg:https://www.lonestarpark.com/wp-content/uploads/2026/03/VBO_2026Generic.jpg
END:VEVENT
END:VCALENDAR