BEGIN:VCALENDAR
VERSION:2.0
PRODID:-//Lone Star Park at Grand Prairie - ECPv6.15.16//NONSGML v1.0//EN
CALSCALE:GREGORIAN
METHOD:PUBLISH
X-WR-CALNAME:Lone Star Park at Grand Prairie
X-ORIGINAL-URL:https://www.lonestarpark.com
X-WR-CALDESC:Events for Lone Star Park at Grand Prairie
REFRESH-INTERVAL;VALUE=DURATION:PT1H
X-Robots-Tag:noindex
X-PUBLISHED-TTL:PT1H
BEGIN:VTIMEZONE
TZID:America/Chicago
BEGIN:DAYLIGHT
TZOFFSETFROM:-0600
TZOFFSETTO:-0500
TZNAME:CDT
DTSTART:20240310T080000
END:DAYLIGHT
BEGIN:STANDARD
TZOFFSETFROM:-0500
TZOFFSETTO:-0600
TZNAME:CST
DTSTART:20241103T070000
END:STANDARD
BEGIN:DAYLIGHT
TZOFFSETFROM:-0600
TZOFFSETTO:-0500
TZNAME:CDT
DTSTART:20250309T080000
END:DAYLIGHT
BEGIN:STANDARD
TZOFFSETFROM:-0500
TZOFFSETTO:-0600
TZNAME:CST
DTSTART:20251102T070000
END:STANDARD
BEGIN:DAYLIGHT
TZOFFSETFROM:-0600
TZOFFSETTO:-0500
TZNAME:CDT
DTSTART:20260308T080000
END:DAYLIGHT
BEGIN:STANDARD
TZOFFSETFROM:-0500
TZOFFSETTO:-0600
TZNAME:CST
DTSTART:20261101T070000
END:STANDARD
BEGIN:DAYLIGHT
TZOFFSETFROM:-0600
TZOFFSETTO:-0500
TZNAME:CDT
DTSTART:20270314T080000
END:DAYLIGHT
BEGIN:STANDARD
TZOFFSETFROM:-0500
TZOFFSETTO:-0600
TZNAME:CST
DTSTART:20271107T070000
END:STANDARD
END:VTIMEZONE
BEGIN:VEVENT
DTSTART;TZID=America/Chicago:20251206T110000
DTEND;TZID=America/Chicago:20251206T170000
DTSTAMP:20260420T183427
CREATED:20221004T142843Z
LAST-MODIFIED:20251203T230648Z
UID:10000162-1765018800-1765040400@www.lonestarpark.com
SUMMARY:Simulcast Betting Challenge Feeder #3
DESCRIPTION:Win your Entry into the Lone Star Simulcast Betting Challenge!\n$300 Buy-In\nLive Money Format | 100% Player Bankroll | No Entry Fee\nPrize Pool 100% funded by Lone Star Park\n1-in-12 Odds or Better to earn a $1\,000 Bankroll to the Lone Star Simulcast Betting Challenge\nSaturday\, December 6\n\nRegistration will take begin at the Front Desk of Bar & Book at approximately 12:00 p.m.\nEligible Simulcast Races\nYou are responsible for your own programs\, seating and food & beverage for feeder tournaments.\nThe Wifi network is named “Public” and does not require a password\, but does require that you accept the terms within a browser.\n\n– You will be asked to show a Photo ID when checking in. \n– You Must be a NHC Tour Member in order to be eligible to win a seat to the National Horseplayers Championship. Click Here to Join if you are already not a member: https://www.ntra.com/nhc/membership/ \nNOTE: Please be aware that you will need to fund your live money tournament buy-in with Cash. ATMs on site at Lone Star Park only accept debit cards and are limited to just $500 per transaction (per Texas Racing Commission rules). No credit card cash advance allowed in Texas at Race Tracks. \nPrize Purse:\n1st Place: $1\,000 Bankroll to February 7\n2nd Place: ($1\,000 Bankroll to February 7 with 12 Entries)\n3rd Place: ($1\,000 Bankroll to February 7 with 24 Entries)\n4th Place: ($1\,000 Bankroll to February 7 with 36 Entries)\n5th Place: ($1\,000 Bankroll to February 7 with 48 Entries)\n6th Place: ($1\,000 Bankroll to February 7 with 60 Entries)\n7th Place: ($1\,000 Bankroll to February 7 with 72 Entries)\n8th Place: ($1\,000 Bankroll to February 7 with 84 Entries)\n9th Place: ($1\,000 Bankroll to February 7 with 96 Entries)\n10th Place: ($1\,000 Bankroll to February 7 with 108 Entries) \nCurrent NHC Tour Membership required to earn a seat to the NHC. Non-Tour members can earn prize money only. \nContest Location: Bar & Book\nKeep Your Winnings | Electrical Outlets Available | Wifi Available \nFormat: Live Money (100% Player Bankroll)\nParticipants must wager at least $300 during the “Early Race Period”. Then\, you must wager at least 50% of your current bankroll during the “Late Race Period”. If current bankroll at the end of the early race period is less than $300 then you must wager at least $150 (or “all-in” if less than $150) during the late race period. (Early & Late races will be established closer to time of event.) \nAll tournament races will be on simulcast Thoroughbred races. \nEligible Wager Types: Win\, Place\, Show & Exacta Wagering (no Trifecta\, Superfecta\, multi-race or Super Hi-Five wagers allowed) \nTournament FAQs \nLive Money Tournament Official Rules \nTo Enter: Bring Cash day of the Event to the Bar & Book front desk \nLone Star’s other On-Track Qualifiers & Feeders:\n$300 Feeder to February 7 on January 17\, 2026\n$1\,000 NHC Qualifier Tournament on February 7\, 2026 \n*Excludes alcoholic beverages. Subject to Change. \nClick Here for full Tournament Schedule
URL:https://www.lonestarpark.com/event/simulcast-betting-challenge-feeder-3/
LOCATION:Bar & Book at Lone Star Park\, 1000 Lone Star Pkwy\, Grand Prairie\, Texas\, 75050
CATEGORIES:Simulcasting at Bar & Book,Tournaments
ATTACH;FMTTYPE=image/jpeg:https://www.lonestarpark.com/wp-content/uploads/2018/08/events-Free-Handicaping-Tournament.jpg
END:VEVENT
BEGIN:VEVENT
DTSTART;TZID=America/Chicago:20260207T110000
DTEND;TZID=America/Chicago:20260207T180000
DTSTAMP:20260420T183427
CREATED:20221006T213454Z
LAST-MODIFIED:20260205T022713Z
UID:10000163-1770462000-1770487200@www.lonestarpark.com
SUMMARY:Simulcast Betting Challenge
DESCRIPTION:$1\,000 Buy-In | 2 Guaranteed NHC Seats\nLAST CHANCE / FIRST CHANCE TOURNAMENT (Choice of 2026 or 2027 NHC) \nLive Money Format | 100% Player Bankroll | No Entry Fee\nPrize Pool 100% funded by Lone Star Park\nLOW RATIO | 1-in-30 Odds or Better to earn a Seat to the NHC\nSaturday\, December 7 – CLICK HERE TO DOWNLOAD THE LIST OF ELIGIBLE RACES\nCLICK HERE TO DOWNLOAD TOURNAMENT DOWNLOAD PACKET\nIncludes: Rules\, Digital Past Performances\, FAQs\, Scorecard and Eligible Race List\n\nValet Parking is Complimentary for tournament participants; Please pull in to “Gate 1” from Beltline Road\, tell the Bar & Book valet attendant that you are with the “Handicapping Tournament”.\nFrom the valet\, proceed inside to the Front Desk for tournament registration.\nAt check-in\, Tournament Participants will receive a coupon for Food & Beverage\, which includes One (1) entree and One (1) non-alcoholic beverage complimentary.\nPlenty of Seating will be available in Carrel Seats or at the Bar\, and will be first-come\, first-served.\nMost of the tables have power adaptors. The Wifi network is named “Public” and does not require a password\, but does require that you accept the terms within a browser.\n\n– You will be asked to show a Photo ID when checking in. \n– You Must be a NHC Tour Member in order to be eligible to win a seat to the National Horseplayers Championship. Click Here to Join if you are already not a member: https://www.ntra.com/nhc/membership/ \nNOTE: Please be aware that you will need to fund your live money tournament buy-in with Cash. OR\, fund with check in advance (recommended to save time; check deadline is 4 days prior to tournament date). ATMs on site at Lone Star Park only accept debit cards and are limited to just $500 per transaction (per Texas Racing Commission rules). No credit card cash advance allowed in Texas at Race Tracks. \nPrize Purse:\n1st Place: Guaranteed NHC Seat (Choice of 2026 or 2027 NHC)\n2nd Place: Guaranteed NHC Seat (Choice of 2026 or 2027 NHC)\n3rd Place: (NHC Seat with 60 Entries)\n4th Place: (NHC Seat with 90 Entries)\n5th Place: (NHC Seat with 120 Entries)\n6th Place: (NHC Seat with 150 Entries) \nCurrent NHC Tour Membership required to earn a seat to the NHC. Non-Tour members can earn prize money only (if applicable). \nContest Location: Bar & Book (Las-Vegas Style Simulcast Building – next door to Grandstand)\nParticipants Receive: Free Seating\, Digital Past Performances and complimentary food & beverage.* \nKeep Your Winnings | Receive Reward Points | Electrical Outlets Available | Wifi Available \nFormat: Live Money (100% Player Bankroll)\nParticipants must wager at least $1\,000 during the “Early Race Period”. Then\, you must wager at least 50% of your current bankroll during the “Late Race Period”. If current bankroll at the end of the early race period is less than $1\,000 then you must wager at least $500 (or “all-in” if less than $500) during the late race period. (Early & Late races will be established closer to time of event.) \nAll tournament races will be on simulcast Thoroughbred races and will be determined closer to event date. \nEligible Wager Types: Win\, Place\, Show & Exacta Wagering (no Trifecta\, Superfecta\, multi-race or Super Hi-Five wagers allowed) \nTournament FAQs \nLive Money Tournament Official Rules \nFund your bankroll via Check or Money Order. Mail to: \nLone Star Park\nAttn: Brandon Leigh\n1000 Lone Star Pkwy\nGrand Prairie\, TX 75050 \nLone Star’s On-Track Qualifiers & Feeders:\n– $300 Feeder #1: Saturday\, September 27\n– $300 Feeder #2: Saturday\, October 25\n– $300 Feeder #3: Saturday\, December 6\n– $300 Feeder #4: Saturday\, January 17 \n*Excludes alcoholic beverages. Subject to Change. \nClick Here for full Tournament Schedule
URL:https://www.lonestarpark.com/event/simulcast-betting-challenge/
LOCATION:Bar & Book at Lone Star Park\, 1000 Lone Star Pkwy\, Grand Prairie\, Texas\, 75050
CATEGORIES:Simulcasting at Bar & Book,Tournaments
ATTACH;FMTTYPE=image/jpeg:https://www.lonestarpark.com/wp-content/uploads/2018/08/events-Free-Handicaping-Tournament.jpg
END:VEVENT
BEGIN:VEVENT
DTSTART;TZID=America/Chicago:20260307T110000
DTEND;TZID=America/Chicago:20260307T170000
DTSTAMP:20260420T183427
CREATED:20230219T153052Z
LAST-MODIFIED:20260306T160109Z
UID:10000167-1772881200-1772902800@www.lonestarpark.com
SUMMARY:Spring Betting Challenge Feeder #1
DESCRIPTION:Win your Entry into the Lone Star Spring Betting Challenge!\n$300 Buy-In\nLive Money Format | Up to 3 Entries per person | 100% Player Bankroll | No Entry Fee\nPrize Pool 100% funded by Lone Star Park\n1-in-15 Odds or Better to earn a $1\,500 Bankroll to the Lone Star Spring Betting Challenge\nSaturday\, March 7\, 2026\n\nRegistration will be at Bar & Book\nEligible Simulcast Races\nYou are responsible for your own programs\, seating and food & beverage for feeder tournaments.\nThe Wifi network is named “Public” and does not require a password\, but does require that you accept the terms within a browser.\n\n– You will be asked to show a Photo ID when checking in. \n– You Must be a NHC Tour Member in order to be eligible to win a seat to the National Horseplayers Championship. Click Here to Join if you are already not a member: https://www.ntra.com/nhc/membership/ \nNOTE: Please be aware that you will need to fund your live money tournament buy-in with Cash. ATMs on site at Lone Star Park only accept debit cards and are limited to just $500 per transaction (per Texas Racing Commission rules). No credit card cash advance allowed in Texas at Race Tracks. \nPrize Purse:\n1st Place: $1\,500 Bankroll to April 18\n2nd Place: ($1\,500 Bankroll to April 18 with 15 Entries)\n3rd Place: ($1\,500 Bankroll to April 18 with 30 Entries)\n4th Place: ($1\,500 Bankroll to April 18 with 45 Entries)\n5th Place: ($1\,500 Bankroll to April 18 with 60 Entries) \nContest Location: Bar & Book\nKeep Your Winnings | Electrical Outlets Available | Wifi Available \nFormat: Live Money (100% Player Bankroll)\nParticipants must wager at least $300 during the “Early Race Period”. Then\, you must wager at least 50% of your current bankroll during the “Late Race Period”. If current bankroll at the end of the early race period is less than $300 then you must wager at least $150 (or “all-in” if less than $150) during the late race period. (Early & Late races will be established closer to time of event.) \nAll tournament races will be on simulcast Thoroughbred races. \nEligible Wager Types: Win\, Place\, Show & Exacta Wagering only (no Trifecta\, Superfecta\, multi-race or Super Hi-Five wagers allowed). \nTournament FAQs and 2025 New Changes \nLive Money Tournament Official Rules \nTo Enter: Bring Cash day of the Event to the Bar & Book front desk \nLone Star’s other On-Track Qualifiers & Feeders:\n$300 Feeder #2 on Saturday\, April 4 | $300 Last Chance Feeder on Friday\, April 17\n$1\,500 NHC/BCBC Finals on Saturday\, April 18 \nClick Here for full 2023 Tournament Schedule
URL:https://www.lonestarpark.com/event/springfeeder1/
LOCATION:Bar & Book at Lone Star Park\, 1000 Lone Star Pkwy\, Grand Prairie\, Texas\, 75050
CATEGORIES:Simulcasting at Bar & Book,Tournaments
ATTACH;FMTTYPE=image/jpeg:https://www.lonestarpark.com/wp-content/uploads/2018/08/events-Free-Handicaping-Tournament.jpg
END:VEVENT
BEGIN:VEVENT
DTSTART;TZID=America/Chicago:20261226T100000
DTEND;TZID=America/Chicago:20261226T150000
DTSTAMP:20260420T183427
CREATED:20231214T221514Z
LAST-MODIFIED:20260306T155408Z
UID:10000170-1798279200-1798297200@www.lonestarpark.com
SUMMARY:Free 2027 Santa Anita Park Wall Calendar!
DESCRIPTION:Saturday\, December 26 is Opening Day at Santa Anita Park and the first 300 Star Player Rewards members that print off and redeem their calendar coupon will receive One (1) Free 2027 Santa Anita Park Wall Calendar!\nWhile supplies last.
URL:https://www.lonestarpark.com/event/free-santa-anita-park-wall-calendar/
LOCATION:Bar & Book at Lone Star Park\, 1000 Lone Star Pkwy\, Grand Prairie\, Texas\, 75050
CATEGORIES:Simulcasting at Bar & Book
ATTACH;FMTTYPE=image/jpeg:https://www.lonestarpark.com/wp-content/uploads/2020/12/santa-anita-calendar-2021.jpg
END:VEVENT
END:VCALENDAR