BEGIN:VCALENDAR
VERSION:2.0
PRODID:-//Lone Star Park at Grand Prairie - ECPv6.15.16//NONSGML v1.0//EN
CALSCALE:GREGORIAN
METHOD:PUBLISH
X-ORIGINAL-URL:https://www.lonestarpark.com
X-WR-CALDESC:Events for Lone Star Park at Grand Prairie
REFRESH-INTERVAL;VALUE=DURATION:PT1H
X-Robots-Tag:noindex
X-PUBLISHED-TTL:PT1H
BEGIN:VTIMEZONE
TZID:America/Chicago
BEGIN:DAYLIGHT
TZOFFSETFROM:-0600
TZOFFSETTO:-0500
TZNAME:CDT
DTSTART:20240310T080000
END:DAYLIGHT
BEGIN:STANDARD
TZOFFSETFROM:-0500
TZOFFSETTO:-0600
TZNAME:CST
DTSTART:20241103T070000
END:STANDARD
BEGIN:DAYLIGHT
TZOFFSETFROM:-0600
TZOFFSETTO:-0500
TZNAME:CDT
DTSTART:20250309T080000
END:DAYLIGHT
BEGIN:STANDARD
TZOFFSETFROM:-0500
TZOFFSETTO:-0600
TZNAME:CST
DTSTART:20251102T070000
END:STANDARD
BEGIN:DAYLIGHT
TZOFFSETFROM:-0600
TZOFFSETTO:-0500
TZNAME:CDT
DTSTART:20260308T080000
END:DAYLIGHT
BEGIN:STANDARD
TZOFFSETFROM:-0500
TZOFFSETTO:-0600
TZNAME:CST
DTSTART:20261101T070000
END:STANDARD
END:VTIMEZONE
BEGIN:VEVENT
DTSTART;TZID=America/Chicago:20250524T120000
DTEND;TZID=America/Chicago:20250524T190000
DTSTAMP:20260421T091648
CREATED:20210228T234851Z
LAST-MODIFIED:20250522T003033Z
UID:10000098-1748088000-1748113200@www.lonestarpark.com
SUMMARY:Lone Star Million NHC Feeder 1
DESCRIPTION:Win your Entry into the Lone Star Million Betting Challenge!\n$750 Buy-In | 2 NHC Seats | Earn NHC Tour Points\nLive Money Format | 100% Player Bankroll | No Entry Fee\nPrize Pool 100% funded by Lone Star Park\n1-in-15 Odds or Better to earn a $2\,500 Bankroll to the Lone Star Million Betting Challenge\nCLICK HERE TO DOWNLOAD THE FOLLOWING MATERIALS \n\nDRF-format Past Performances for all three days\nEquibase-format Past Performances for all three days\nOfficial Rules\nFAQs\nScore Sheets (designating what races are the “Early” races and the “Late” races) for all three days\nCurrent Jockey / Trainer Standings at Lone Star\n\nSaturday\, May 24: Gates open: 12:00 p.m.  | First Race: 1:35 p.m.\nSunday\, May 25: Gates open: 12:00 p.m.  | First Race: 1:35 p.m.\nMonday\, May 26: Gates open: 12:00 p.m.  | First Race: 1:35 p.m. \n\nValet Parking is Complimentary for tournament participants on all three days; Please pull in to “Gate 5” from Lone Star Pkwy\, tell the attendant that you are with the “Handicapping Tournament”.\nFrom the valet\, proceed to the Will Call booth\, inform the attendant that you are with the “Handicapping Tournament” and they will grant you an admission ticket for entrance. Please proceed up the escalator to Level 2 and turn to your right to enter the “Alysheba” Room.\nAt check-in\, Tournament Participants will receive a wristband for Food & Beverage\, which is complimentary.\nPlenty of Seating will be available\, and will be first-come\, first-served.\nMost of the tables have power adaptors. The Wifi network is named “Public” and does not require a password\, but does require that you accept the terms within a browser.\n\n– You will be asked to show a Photo ID when checking in. \n– You Must be a NHC Tour Member in order to be eligible to win a seat to the National Horseplayers Championship. Click Here to Join if you are already not a member: https://www.ntra.com/nhc/membership/ \nNOTE: Please be aware that you will need to fund your live money tournament buy-in with Cash. OR\, fund with check in advance (check deadline is 4 days prior to tournament date). ATMs on site at Lone Star Park only accept debit cards and are limited to just $500 per transaction (per Texas Racing Commission rules). No credit card cash advance allowed in Texas at Race Tracks. \nSaturday\, May 24\nPrize Purse:\n1st Place: NHC Seat Guaranteed | $2\,500 Bankroll to May 26\n2nd Place: NHC Seat Guaranteed | (plus $2\,500 Bankroll to May 26 with 15 Entries)\n3rd Place: ($2\,500 Bankroll to May 26 with 30 Entries)\n4th Place: ($2\,500 Bankroll to May 26 with 45 Entries)\n5th Place: ($2\,500 Bankroll to May 26 with 60 Entries)\n6th Place: ($2\,500 Bankroll to May 26 with 75 Entries)\n7th Place: ($2\,500 Bankroll to May 26 with 90 Entries)\n8th Place: ($2\,500 Bankroll to May 26 with 105 Entries)\n9th Place: ($2\,500 Bankroll to May 26 with 120 Entries)\n10th Place: ($2\,500 Bankroll to May 26 with 135 Entries)\n11th Place: ($2\,500 Bankroll to May 26 with 150 Entries)\n12th Place: ($2\,500 Bankroll to May 26 with 165 Entries)\n13th Place: ($2\,500 Bankroll to May 26 with 180 Entries)\n14th Place: ($2\,500 Bankroll to May 26 with 195 Entries)\n15th Place: ($2\,500 Bankroll to May 26 with 210 Entries) \nContest Location: Level 2 – Alysheba Tournament Room\nParticipants Receive: Free Admission & Seating in Tournament Room\, Digital Past Performances and complimentary food & beverage.* \nKeep Your Winnings | Receive Reward Points | Electrical Outlets Available | Wifi Available \nFormat: Live Money (100% Player Bankroll)\nParticipants must wager at least $750 during the “Early Race Period”. Then\, you must wager at least 50% of your current bankroll during the “Late Race Period”. If current bankroll at the end of the early race period is less than $750 then you must wager at least $375 (or “all-in” if less than $375) during the late race period. \nAll tournament races will be on Lone Star Park races. \nEligible Wager Types: Win\, Place\, Show & Exacta Wagering (no Trifecta\, Superfecta\, multi-race or Super Hi-Five wagers allowed) \nClick Here for the 2025 Official Rules \nTournament FAQs and things that are new for 2025 \nLone Star’s On-Track Qualifiers & Feeders:\n$500 Feeder: Sunday\, April 20\n$750 NHC Feeder: Sunday\, May 25\n$2\,500 NHC & BCBC Qualifier: Monday\, May 26\n \n*Excludes alcoholic beverages. Subject to Change. \nClick Here for full 2025 Tournament Schedule
URL:https://www.lonestarpark.com/event/nhcfeeder1/
LOCATION:Lone Star Park Grandstand\, 1000 Lone Star Pkwy\, Grand Prairie\, TX\, 75050
CATEGORIES:Live Thoroughbred Racing,Tournaments
ATTACH;FMTTYPE=image/jpeg:https://www.lonestarpark.com/wp-content/uploads/2018/08/events-NHC-Live-Money-Tourny.jpg
END:VEVENT
BEGIN:VEVENT
DTSTART;TZID=America/Chicago:20250525T120000
DTEND;TZID=America/Chicago:20250525T183000
DTSTAMP:20260421T091648
CREATED:20210228T233208Z
LAST-MODIFIED:20250522T003131Z
UID:10000095-1748174400-1748197800@www.lonestarpark.com
SUMMARY:Lone Star Million NHC Feeder 2
DESCRIPTION:Win your Entry into the Lone Star Million Betting Challenge!\n$750 Buy-In | 2 NHC Seats | Earn NHC Tour Points\nLive Money Format | 100% Player Bankroll | No Entry Fee\nPrize Pool 100% funded by Lone Star Park\n1-in-15 Odds or Better to earn a $2\,500 Bankroll to the Lone Star Million Betting Challenge\nCLICK HERE TO DOWNLOAD THE FOLLOWING MATERIALS \n\nDRF-format Past Performances for all three days\nEquibase-format Past Performances for all three days\nOfficial Rules\nFAQs\nScore Sheets (designating what races are the “Early” races and the “Late” races) for all three days\nCurrent Jockey / Trainer Standings at Lone Star\n\nSaturday\, May 24: Gates open: 12:00 p.m.  | First Race: 1:35 p.m.\nSunday\, May 25: Gates open: 12:00 p.m.  | First Race: 1:35 p.m.\nMonday\, May 26: Gates open: 12:00 p.m.  | First Race: 1:35 p.m. \n\nValet Parking is Complimentary for tournament participants on all three days; Please pull in to “Gate 5” from Lone Star Pkwy\, tell the attendant that you are with the “Handicapping Tournament”.\nFrom the valet\, proceed to the Will Call booth\, inform the attendant that you are with the “Handicapping Tournament” and they will grant you an admission ticket for entrance. Please proceed up the escalator to Level 2 and turn to your right to enter the “Alysheba” Room.\nAt check-in\, Tournament Participants will receive a wristband for Food & Beverage\, which is complimentary.\nPlenty of Seating will be available\, and will be first-come\, first-served.\nMost of the tables have power adaptors. The Wifi network is named “Public” and does not require a password\, but does require that you accept the terms within a browser.\n\n– You will be asked to show a Photo ID when checking in. \n– You Must be a NHC Tour Member in order to be eligible to win a seat to the National Horseplayers Championship. Click Here to Join if you are already not a member: https://www.ntra.com/nhc/membership/ \nNOTE: Please be aware that you will need to fund your live money tournament buy-in with Cash. OR\, fund with check in advance (check deadline is 4 days prior to tournament date). ATMs on site at Lone Star Park only accept debit cards and are limited to just $500 per transaction (per Texas Racing Commission rules). No credit card cash advance allowed in Texas at Race Tracks. \nSunday\, May 25\nPrize Purse:\n1st Place: NHC Seat Guaranteed | $2\,500 Bankroll to May 26\n2nd Place: NHC Seat Guaranteed | (plus $2\,500 Bankroll to May 26 with 15 Entries)\n3rd Place: ($2\,500 Bankroll to May 26 with 30 Entries)\n4th Place: ($2\,500 Bankroll to May 26 with 45 Entries)\n5th Place: ($2\,500 Bankroll to May 26 with 60 Entries)\n6th Place: ($2\,500 Bankroll to May 26 with 75 Entries)\n7th Place: ($2\,500 Bankroll to May 26 with 90 Entries)\n8th Place: ($2\,500 Bankroll to May 26 with 105 Entries)\n9th Place: ($2\,500 Bankroll to May 26 with 120 Entries)\n10th Place: ($2\,500 Bankroll to May 26 with 135 Entries)\n11th Place: ($2\,500 Bankroll to May 26 with 150 Entries)\n12th Place: ($2\,500 Bankroll to May 26 with 165 Entries)\n13th Place: ($2\,500 Bankroll to May 26 with 180 Entries)\n14th Place: ($2\,500 Bankroll to May 26 with 195 Entries)\n15th Place: ($2\,500 Bankroll to May 26 with 210 Entries) \nContest Location: Level 2 – Alysheba Tournament Room\nParticipants Receive: Free Admission & Seating in Tournament Room\, Digital Past Performances and complimentary food & beverage.* \nKeep Your Winnings | Receive Reward Points | Electrical Outlets Available | Wifi Available \nFormat: Live Money (100% Player Bankroll)\nParticipants must wager at least $750 during the “Early Race Period”. Then\, you must wager at least 50% of your current bankroll during the “Late Race Period”. If current bankroll at the end of the early race period is less than $750 then you must wager at least $375 (or “all-in” if less than $375) during the late race period. \nAll tournament races will be on Lone Star Park races. \nEligible Wager Types: Win\, Place\, Show & Exacta Wagering (no Trifecta\, Superfecta\, multi-race or Super Hi-Five wagers allowed) \nClick Here for the 2025 Official Rules \nTournament FAQs and 2025 New Changes \nLone Star’s On-Track Qualifiers & Feeders:\n$500 Feeder: Sunday\, April 20\n$750 NHC Feeder: Saturday\, May 24\n$2\,500 NHC & BCBC Qualifier: Monday\, May 26 \n*Excludes alcoholic beverages. Subject to Change. \nClick Here for full 2025 Tournament Schedule
URL:https://www.lonestarpark.com/event/nhcfeeder2/
LOCATION:Lone Star Park Grandstand\, 1000 Lone Star Pkwy\, Grand Prairie\, TX\, 75050
CATEGORIES:Live Thoroughbred Racing,Tournaments
ATTACH;FMTTYPE=image/jpeg:https://www.lonestarpark.com/wp-content/uploads/2018/08/events-NHC-Live-Money-Tourny.jpg
END:VEVENT
BEGIN:VEVENT
DTSTART;TZID=America/Chicago:20250526T120000
DTEND;TZID=America/Chicago:20250526T193000
DTSTAMP:20260421T091648
CREATED:20210228T235209Z
LAST-MODIFIED:20250522T002925Z
UID:10000099-1748260800-1748287800@www.lonestarpark.com
SUMMARY:Lone Star Million Betting Challenge
DESCRIPTION:$2\,500 Buy-In | 2 BCBC Seats | 6+ NHC Seats\nMonday\, May 26\nLive Money Format | 100% Player Bankroll | No Entry Fee\nPrize Pool 100% funded by Lone Star Park\n1-in-10 Odds to earn either a BCBC Seat or NHC Seat\nCLICK HERE TO DOWNLOAD THE FOLLOWING MATERIALS \n\nDRF-format Past Performances for all three days\nEquibase-format Past Performances for all three days\nOfficial Rules\nFAQs\nScore Sheets (designating what races are the “Early” races and the “Late” races) for all three days\nCurrent Jockey / Trainer Standings at Lone Star\n\nSaturday\, May 24: Gates open: 12:00 p.m.  | First Race: 1:35 p.m.\nSunday\, May 25: Gates open: 12:00 p.m.  | First Race: 1:35 p.m.\nMonday\, May 26: Gates open: 12:00 p.m.  | First Race: 1:35 p.m. \n\nValet Parking is Complimentary for tournament participants on all three days; Please pull in to “Gate 5” from Lone Star Pkwy\, tell the attendant that you are with the “Handicapping Tournament”.\nFrom the valet\, proceed to the Will Call booth\, inform the attendant that you are with the “Handicapping Tournament” and they will grant you an admission ticket for entrance. Please proceed up the escalator to Level 2 and turn to your right to enter the “Alysheba” Room.\nAt check-in\, Tournament Participants will receive a wristband for Food & Beverage\, which is complimentary.\nPlenty of Seating will be available\, and will be first-come\, first-served.\nMost of the tables have power adaptors. The Wifi network is named “Public” and does not require a password\, but does require that you accept the terms within a browser.\n\n– You will be asked to show a Photo ID when checking in. \n– You Must be a NHC Tour Member in order to be eligible to win a seat to the National Horseplayers Championship. Click Here to Join if you are already not a member: https://www.ntra.com/nhc/membership/ \nNOTE: Please be aware that you will need to fund your live money tournament buy-in with Cash. OR\, fund with check in advance (recommended to save time; check deadline is 4 days prior to tournament date). ATMs on site at Lone Star Park only accept debit cards and are limited to just $500 per transaction (per Texas Racing Commission rules). No credit card cash advance allowed in Texas at Race Tracks. \nClick Here for Printable Flyer \nLive Money Format | 100% Player Bankroll | No Entry Fee\nPrize Pool 100% funded by Lone Star Park\nLOWEST RATIO | 1-in-10 Odds to earn a Seat to the NHC!!!\nMemorial Day\, Monday\, May 27\nPrize Purse:\n1st Place: Players’ Choice of BCBC or NHC Seat\n2nd Place: Players’ Choice of BCBC or NHC Seat\n3rd Place: NHC Seat (or choice of BCBC Seat if still available)\n4th Place: NHC Seat (or choice of BCBC Seat if still available)\n5th Place: NHC Seat (or choice of BCBC Seat if still available)\n6th Place: NHC Seat (or choice of BCBC Seat if still available)\n7th Place: NHC Seat (or choice of BCBC Seat if still available)\n8th Place: NHC Seat (or choice of BCBC Seat if still available)\n9th Place: (NHC Seat with 90+ Entries)\n10th Place: (NHC Seat with 100+ Entries)\n11th Place: (NHC Seat with 110+ Entries)\n12th Place: (NHC Seat with 120+ Entries)\n13th Place: (NHC Seat with 130+ Entries)\n14th Place: (NHC Seat with 140+ Entries)\n15th Place: (NHC Seat with 150+ Entries) \nContest Location: Level 2 – Alysheba Tournament Room\nParticipants Receive: Free Admission & Seating\, Digital Past Performances and complimentary food & beverage.* \nKeep Your Winnings | Receive Reward Points | Electrical Outlets Available | Wifi Available \nFormat: Live Money (100% Player Bankroll)\nParticipants must wager at least $2\,500 during the “Early Race Period”. Then\, you must wager at least 50% of your current bankroll during the “Late Race Period”. If current bankroll at the end of the early race period is less than $2\,500 then you must wager at least $1\,250 (or “all-in” if less than $1\,250) during the late race period. \nAll tournament races will be on Lone Star Park races. \nEligible Wager Types: Win\, Place\, Show & Exacta Wagering (no Trifecta\, Superfecta\, multi-race or Super Hi-Five wagers allowed) \nOfficial Rules \nTournament FAQs and New Changes for 2025 \nFund your bankroll via Check or Money Order. Mail to: \nLone Star Park\nAttn: Brandon Leigh\n1000 Lone Star Pkwy\nGrand Prairie\, TX 75050 \nWin your Entry into the Lone Star Million Betting Challenge!\nLone Star’s On-Track Qualifiers & Feeders:\n$500 Feeder: Sunday\, April 20\n$750 NHC Feeders: Saturday\, May 24 | Sunday\, May 25 \nHorseTourneys.com will offer Daily Feeders in to Weekly Qualifiers soon!\nClick on the “Lone Star” Button! \n*Excludes alcoholic beverages. Subject to Change. \nClick Here for full 2025 Tournament Schedule
URL:https://www.lonestarpark.com/event/lsmillionbettingchallenge/
LOCATION:Lone Star Park Grandstand\, 1000 Lone Star Pkwy\, Grand Prairie\, TX\, 75050
CATEGORIES:Live Thoroughbred Racing,Tournaments
ATTACH;FMTTYPE=image/jpeg:https://www.lonestarpark.com/wp-content/uploads/2018/08/events-NHC-Live-Money-Tourny.jpg
END:VEVENT
END:VCALENDAR