BEGIN:VCALENDAR
VERSION:2.0
PRODID:-//Lone Star Park at Grand Prairie//NONSGML v1.0//EN
BEGIN:VEVENT
UID:4805
DTSTAMP:20190201T050207Z
DTSTART:20191207T050000Z
DTEND:20191207T050000Z
LOCATION:
SUMMARY:FallSimulcastBettingChallengeNHCTournament
DESCRIPTION:<h2>$500 Buy-In | 2 Guaranteed NHC Seats | $5\,000 Cash</h2>
<h3>Live Money Format | 100% Player Bankroll | No Entry Fee</h3>
<h4>Prize Pool 100% funded by Lone Star Park</h4>
<h4><a href="https://www.lonestarpark.com/wp-content/uploads/2019/12/December-7-Official-Results.pdf" target="_blank" rel="noopener noreferrer">Saturday\, December 7 - OFFICIAL RESULTS</a></h4>
Prize Purse:
1st Place: $1\,500 Cash | Guaranteed NHC Seat
2nd Place: $1\,000 Cash | Guaranteed NHC Seat
3rd Place: $750 Cash | (plus NHC Seat with 125 Entries)
4th Place: $600 Cash | (plus NHC Seat with 175 Entries)
5th Place: $400 Cash | (plus NHC Seat with 225 Entries)
6th Place: $250 Cash
7th Place: $200 Cash
8th Place: $150 Cash
9th Place: $100 Cash
10th Place: $50 Cash

Current NHC Tour Membership required to earn a seat to the NHC. Non-Tour members can earn prize money only.

Contest Location: Bar &amp\; Book
Participants Receive: Complimentary Seating\, Valet Parking and a Food Voucher.*

Keep Your Winnings | Receive Reward Points | Electrical Outlets Available | Wifi Available

Format: Live Money (100% Player Bankroll)
Participants must wager at least $500 during the "Early Race Period". Then\, you must wager at least 50% of your current bankroll during the "Late Race Period". If current bankroll at the end of the early race period is less than $500 then you must wager at least $250 (or "all-in" if less than $250) during the late race period.

<a href="https://www.lonestarpark.com/wp-content/uploads/2019/01/Eligible-Races-12.7.19.pdf" target="_blank" rel="noopener noreferrer">Click Here for Eligible Races</a>

Eligible Wager Types: Win\, Place\, Show &amp\; Exacta Wagering (no Trifecta\, Superfecta\, multi-race or Super Hi-Five wagers allowed)

<a href="https://www.lonestarpark.com/wp-content/uploads/2019/02/2019-FAQs.pdf" target="_blank" rel="noopener noreferrer">FAQs &amp\; Key Changes to 2019 Tournaments</a>

Fund your bankroll via Check or Money Order. Mail to:

Lone Star Park
Attn: Brandon Leigh
1000 Lone Star Pkwy
Grand Prairie\, TX 75050
<h2>Win your Entry into the Fall Simulcast Betting Challenge!</h2>
Lone Star's On-Track Qualifiers &amp\; Feeders:
Free Qualifiers: <a href="https://www.lonestarpark.com/events/tournament-2-3/">Q1-Saturday\, September 28</a> | <a href="https://www.lonestarpark.com/events/tournament-2-3-2/">Q2-Saturday\, October 26</a>
$50 Feeders: <a href="https://www.lonestarpark.com/events/tournament-2-2-3-3/">Saturday\, November 9</a> | <a href="https://www.lonestarpark.com/events/tournament-2-2-3-3-2/">Saturday\, November 16</a>

<a href="https://horsetourneys.com/" target="_blank" rel="noopener noreferrer">HorseTourneys.com</a> offers Daily Feeders in to Weekly Qualifiers! (Schedule begins soon)
Click on the "Lone Star" Button!

*Excludes alcoholic beverages.

<a class="button" href="https://www.lonestarpark.com/handicapping-tournaments/" target="_blank" rel="noopener noreferrer">Click Here for full 2019 Tournament Schedule</a>

<a href="https://www.lonestarpark.com/wp-content/uploads/2019/04/Official-Rules-2019-Live-Money-Format.pdf" target="_blank" rel="noopener noreferrer">Official Rules: "Live Money" Format</a>
END:VEVENT
END:VCALENDAR
