BEGIN:VCALENDAR
VERSION:2.0
PRODID:-//Lone Star Park at Grand Prairie//NONSGML v1.0//EN
BEGIN:VEVENT
UID:6675
DTSTAMP:20200214T044411Z
DTSTART:20200222T050000Z
DTEND:20200222T050000Z
LOCATION:
SUMMARY:FreeQualifierTournament
DESCRIPTION:<h2><strong>Saturday\, February 22</strong></h2>
Deadline to Enter was Monday\, February 17

<a class="button" href="https://www.lonestarpark.com/wp-content/uploads/2020/02/February-22-Official-Results.pdf" rel="noopener">Official Results</a>

Free Qualifier 1 - Saturday\, February 22
Prizes: Top 10 each win a $1\,000 Bankroll into April 18
Format: Mythical $2 Win/Place
Contest Tracks: Aqueduct\, Gulfstream Park\, Oaklawn Park\, Fair Grounds and Santa Anita Park (Subject to Change)

<a class="button" href="https://www.lonestarpark.com/events/2020SpringBettingChallenge" rel="noopener">Lone Star Spring Betting Challenge Details</a>

Format Details: Mythical $2 Win/Place
Players will make Fifteen $2 Win/Place Wagers on 15 different races (8 Mandatory / 7 Optional).

<a class="button" href="https://www.lonestarpark.com/wp-content/uploads/2020/02/2020-Mythical-Tournaments-Official-Rules.pdf" rel="noopener">2020 Official Rules (Mythical Format)</a>
END:VEVENT
END:VCALENDAR
