BEGIN:VCALENDAR
VERSION:2.0
PRODID:-//Lone Star Park at Grand Prairie - ECPv6.15.16//NONSGML v1.0//EN
CALSCALE:GREGORIAN
METHOD:PUBLISH
X-ORIGINAL-URL:https://www.lonestarpark.com
X-WR-CALDESC:Events for Lone Star Park at Grand Prairie
REFRESH-INTERVAL;VALUE=DURATION:PT1H
X-Robots-Tag:noindex
X-PUBLISHED-TTL:PT1H
BEGIN:VTIMEZONE
TZID:America/Chicago
BEGIN:DAYLIGHT
TZOFFSETFROM:-0600
TZOFFSETTO:-0500
TZNAME:CDT
DTSTART:20200308T080000
END:DAYLIGHT
BEGIN:STANDARD
TZOFFSETFROM:-0500
TZOFFSETTO:-0600
TZNAME:CST
DTSTART:20201101T070000
END:STANDARD
BEGIN:DAYLIGHT
TZOFFSETFROM:-0600
TZOFFSETTO:-0500
TZNAME:CDT
DTSTART:20210314T080000
END:DAYLIGHT
BEGIN:STANDARD
TZOFFSETFROM:-0500
TZOFFSETTO:-0600
TZNAME:CST
DTSTART:20211107T070000
END:STANDARD
BEGIN:DAYLIGHT
TZOFFSETFROM:-0600
TZOFFSETTO:-0500
TZNAME:CDT
DTSTART:20220313T080000
END:DAYLIGHT
BEGIN:STANDARD
TZOFFSETFROM:-0500
TZOFFSETTO:-0600
TZNAME:CST
DTSTART:20221106T070000
END:STANDARD
BEGIN:DAYLIGHT
TZOFFSETFROM:-0600
TZOFFSETTO:-0500
TZNAME:CDT
DTSTART:20230312T080000
END:DAYLIGHT
BEGIN:STANDARD
TZOFFSETFROM:-0500
TZOFFSETTO:-0600
TZNAME:CST
DTSTART:20231105T070000
END:STANDARD
BEGIN:DAYLIGHT
TZOFFSETFROM:-0600
TZOFFSETTO:-0500
TZNAME:CDT
DTSTART:20240310T080000
END:DAYLIGHT
BEGIN:STANDARD
TZOFFSETFROM:-0500
TZOFFSETTO:-0600
TZNAME:CST
DTSTART:20241103T070000
END:STANDARD
BEGIN:DAYLIGHT
TZOFFSETFROM:-0600
TZOFFSETTO:-0500
TZNAME:CDT
DTSTART:20250309T080000
END:DAYLIGHT
BEGIN:STANDARD
TZOFFSETFROM:-0500
TZOFFSETTO:-0600
TZNAME:CST
DTSTART:20251102T070000
END:STANDARD
END:VTIMEZONE
BEGIN:VEVENT
DTSTART;TZID=America/Chicago:20240325T113000
DTEND;TZID=America/Chicago:20240325T190000
DTSTAMP:20260423T115156
CREATED:20210227T235824Z
LAST-MODIFIED:20240223T005154Z
UID:10000090-1711366200-1711393200@www.lonestarpark.com
SUMMARY:National Anthem Auditions
DESCRIPTION:Oh Say Can You Sing?\nIt is time to warm up your vocal chords!\n \nLone Star Park National Anthem auditions will be held on Monday\, March 25\, 2024 from 11:30 a.m. to 7:00 p.m. \nAuditions will be held outdoors (weather permitting) in the Winner’s Circle. Enter through Parking Gate 5 off Lone Star Parkway and park in the Preferred Parking Lot.  Enter through the East Entrance of the Grandstand. \nAnyone interested in singing the National Anthem for Lone Star Park must audition\, in person on Monday\, March 25\, 2024 (no exceptions). All auditions will be walk-up (no reservations).  Lyrics must be memorized\, and you will be asked to audition a cappella. Vocalists\, instrumentalists\, duos\, trios\, groups and choirs are welcome to audition. Your performance time must be two minutes or less. Also\, as a reminder\, expect to hear a half second delay in the sound system during your performance. \nEach person selected to perform will be notified on or before April 5\, 2024 and will receive four (4) reserved seats for live racing on the performance date. \nPerformers Must Adhere to the Following Guidelines:\n\nSong must be sung a cappella or performed on an acoustic instrument\nSong must be completed in two minutes or less (over 2 min = DQ)\nSingers may not hold their ears to help with delay (i.e.\, finger in ear = DQ)\nSingers must have words memorized (using paper/cheat sheet = DQ)\n\nThe Spangled Banner\nOh\, say can you see\, by the dawn’s early light\,\n What so proudly we hailed at the twilight’s last gleaming\n Whose broad stripes and bright stars\, thro’ the perilous fight’\n O’er the ramparts we watched were so gallantly streaming\n And the rockets red glare\, the bombs bursting in air\,\n Gave proof through the night that our flag was still there.\n Oh\, say\, does that Star-Spangled Banner yet wave\n O’er the land of the free and the home of the brave
URL:https://www.lonestarpark.com/event/national-anthem-auditions/
LOCATION:Lone Star Park Grandstand\, 1000 Lone Star Pkwy\, Grand Prairie\, TX\, 75050
ATTACH;FMTTYPE=image/png:https://www.lonestarpark.com/wp-content/uploads/2018/02/home-promo-anthem-1.png
END:VEVENT
BEGIN:VEVENT
DTSTART;TZID=America/Chicago:20230615T183000
DTEND;TZID=America/Chicago:20230615T220000
DTSTAMP:20260423T115156
CREATED:20210303T125727Z
LAST-MODIFIED:20230220T154746Z
UID:10000114-1686853800-1686866400@www.lonestarpark.com
SUMMARY:Thoroughbred Racing Season
DESCRIPTION:Gates Open: 5:00 p.m.\nFirst Live Race: 6:35 p.m.\nGeneral Admission is just $10 and General Parking is Free!\nClick Here to Purchase Tickets \nStar Player Rewards 20X Bonus Points: Points earned from wagering on Lone Star Park races are increasing from 2 to 20 additional points per dollar wagered this Season! For more information about Star Player Rewards LEARN MORE \n  \n  \n  \nLone Star Park is the only destination in DFW where you can experience the Excitement of Live Sports\, the Thrill of Winning Big and the Majestic Beauty Thoroughbred Horses doing what they do best! With Tickets starting at just $10\, we’re sure to be your Best Bet for a Good Time at a Great Price! The Horses Are Ready. Are You? \nClick Here to Purchase Tickets
URL:https://www.lonestarpark.com/event/thoroughbred-racing-season-11/
LOCATION:Lone Star Park Grandstand\, 1000 Lone Star Pkwy\, Grand Prairie\, TX\, 75050
CATEGORIES:Live Thoroughbred Racing
ATTACH;FMTTYPE=image/png:https://www.lonestarpark.com/wp-content/uploads/2022/03/21VBO_Generic.png
END:VEVENT
BEGIN:VEVENT
DTSTART;TZID=America/Chicago:20230513T133000
DTEND;TZID=America/Chicago:20230513T180000
DTSTAMP:20260423T115156
CREATED:20210303T192035Z
LAST-MODIFIED:20230512T233316Z
UID:10000131-1683984600-1684000800@www.lonestarpark.com
SUMMARY:Thoroughbred Racing Season: Free T-Shirt Giveaway
DESCRIPTION:Gates Open: 12:00 p.m.\nFirst Live Race: 1:35 p.m.\nGeneral Admission is just $10 and General Parking is FREE!\nClick Here to Purchase Tickets \n \n  \nFree T-Shirt Giveaway (First 1\,500 Fans) \nMake sure to arrive early\, as only the first 1\,500 fans in attendance will receive One (1) Free Lone Star Park T-Shirt!* \n*Available sizes include L and XL only. While supplies last. \n  \n  \n \n20X Bonus Points: Points earned from wagering on Lone Star Park races are increasing from 2 to 20 additional points per dollar wagered this Season! Learn More \n  \n  \n  \nLone Star Park is the only destination in DFW where you can experience the Excitement of Live Sports\, the Thrill of Winning Big and the Majestic Beauty Thoroughbred Horses doing what they do best! With Tickets starting at just $10\, we’re sure to be your Best Bet for a Good Time at a Great Price! The Horses Are Ready. Are You? \nClick Here to Purchase Tickets
URL:https://www.lonestarpark.com/event/thoroughbred-racing-season-23/
LOCATION:Lone Star Park Grandstand\, 1000 Lone Star Pkwy\, Grand Prairie\, TX\, 75050
CATEGORIES:Giveaways,Live Thoroughbred Racing
ATTACH;FMTTYPE=image/png:https://www.lonestarpark.com/wp-content/uploads/2023/05/23VBO_23TShirt.png
END:VEVENT
BEGIN:VEVENT
DTSTART;TZID=America/Chicago:20220723T110000
DTEND;TZID=America/Chicago:20220723T153000
DTSTAMP:20260423T115156
CREATED:20210303T194351Z
LAST-MODIFIED:20220620T192414Z
UID:10000137-1658574000-1658590200@www.lonestarpark.com
SUMMARY:Thoroughbred Racing Season
DESCRIPTION:Gates Open: 9:30 a.m.\nFirst Live Race: 11:00 a.m.\nGeneral Admission is $10 and General Parking is FREE!\nClick Here to Purchase Tickets for this Event \n \nStar Player Rewards 20X Bonus Points: Points earned from wagering on Lone Star Park races are increasing from 2 to 20 additional points per dollar wagered this Season! Learn More \n  \n  \n  \nLone Star Park is the only destination in DFW where you can experience the Excitement of Live Sports\, the Thrill of Winning Big and the Majestic Beauty Thoroughbred Horses doing what they do best! With Tickets starting at just $10\, we’re sure to be your Best Bet for a Good Time at a Great Price! The Horses Are Ready. Are You?
URL:https://www.lonestarpark.com/event/thoroughbred-racing-season-27/
LOCATION:Lone Star Park Grandstand\, 1000 Lone Star Pkwy\, Grand Prairie\, TX\, 75050
CATEGORIES:Live Thoroughbred Racing
ATTACH;FMTTYPE=image/png:https://www.lonestarpark.com/wp-content/uploads/2022/03/21VBO_Generic.png
END:VEVENT
BEGIN:VEVENT
DTSTART;TZID=America/Chicago:20220722T183000
DTEND;TZID=America/Chicago:20220722T220000
DTSTAMP:20260423T115156
CREATED:20210303T201023Z
LAST-MODIFIED:20220316T225316Z
UID:10000143-1658514600-1658527200@www.lonestarpark.com
SUMMARY:Thoroughbred Racing Season
DESCRIPTION:Gates Open: 5:00 p.m.\nFirst Live Race: 6:35 p.m.\nGeneral Admission is just $5 and General Parking is FREE\nClick Here to Purchase Tickets \n  \n \nHalf-Priced Box Seats: Every Thursday & Friday you can enjoy the climate-controlled comfort on Level 2 with a Box Seat for just $5 per seat!* \n*Must purchase entire box. \n  \n  \n  \n \nStar Player Rewards 20X Bonus Points: Points earned from wagering on Lone Star Park races are increasing from 2 to 20 additional points per dollar wagered this Season! Learn More \n  \n  \n  \nLone Star Park is the only destination in DFW where you can experience the Excitement of Live Sports\, the Thrill of Winning Big and the Majestic Beauty Thoroughbred Horses doing what they do best! With Tickets starting at just $5\, we’re sure to be your Best Bet for a Good Time at a Great Price! The Horses Are Ready. Are You? \nClick Here to Purchase Tickets
URL:https://www.lonestarpark.com/event/thoroughbred-racing-season-32/
LOCATION:Lone Star Park Grandstand\, 1000 Lone Star Pkwy\, Grand Prairie\, TX\, 75050
CATEGORIES:Live Thoroughbred Racing,Ticket Discounts
ATTACH;FMTTYPE=image/png:https://www.lonestarpark.com/wp-content/uploads/2022/03/21VBO_Generic.png
END:VEVENT
BEGIN:VEVENT
DTSTART;TZID=America/Chicago:20220721T183000
DTEND;TZID=America/Chicago:20220721T220000
DTSTAMP:20260423T115156
CREATED:20210303T200716Z
LAST-MODIFIED:20220324T141343Z
UID:10000142-1658428200-1658440800@www.lonestarpark.com
SUMMARY:Thoroughbred Racing Season
DESCRIPTION:Gates Open: 5:00 p.m.\nFirst Live Race: 6:35 p.m.\nGeneral Admission is just $5 and General Parking is FREE\nClick Here to Purchase Tickets \n \nHalf-Priced Box Seats: Every Thursday & Friday you can enjoy the climate-controlled comfort on Level 2 with a Box Seat for just $5 per seat!* \n*Must purchase entire box. \n  \n  \n  \n  \n \nStar Player Rewards 20X Bonus Points: Points earned from wagering on Lone Star Park races are increasing from 2 to 20 additional points per dollar wagered this Season! Learn More \n  \n  \n  \nLone Star Park is the only destination in DFW where you can experience the Excitement of Live Sports\, the Thrill of Winning Big and the Majestic Beauty Thoroughbred Horses doing what they do best! With Tickets starting at just $5\, we’re sure to be your Best Bet for a Good Time at a Great Price! The Horses Are Ready. Are You? \nClick Here to Purchase Tickets
URL:https://www.lonestarpark.com/event/thoroughbred-racing-season-31/
LOCATION:Lone Star Park Grandstand\, 1000 Lone Star Pkwy\, Grand Prairie\, TX\, 75050
CATEGORIES:Live Thoroughbred Racing,Ticket Discounts
ATTACH;FMTTYPE=image/png:https://www.lonestarpark.com/wp-content/uploads/2022/03/21VBO_Generic.png
END:VEVENT
BEGIN:VEVENT
DTSTART;TZID=America/Chicago:20220715T183000
DTEND;TZID=America/Chicago:20220715T220000
DTSTAMP:20260423T115156
CREATED:20210303T194629Z
LAST-MODIFIED:20220324T141432Z
UID:10000138-1657909800-1657922400@www.lonestarpark.com
SUMMARY:Thoroughbred Racing Season
DESCRIPTION:Gates Open: 5:00 p.m.\nFirst Live Race: 6:35 p.m.\nGeneral Admission is just $5 and General Parking is FREE!\nClick Here to Purchase Tickets \n \nHalf-Priced Box Seats: Every Thursday & Friday you can enjoy the climate-controlled comfort on Level 2 with a Box Seat for just $5 per seat!* \n*Must purchase entire box. \n  \n  \n  \n \nStar Player Rewards 20X Bonus Points: Points earned from wagering on Lone Star Park races are increasing from 2 to 20 additional points per dollar wagered this Season! Learn More \n  \n  \n  \nLone Star Park is the only destination in DFW where you can experience the Excitement of Live Sports\, the Thrill of Winning Big and the Majestic Beauty Thoroughbred Horses doing what they do best! With Tickets starting at just $5\, we’re sure to be your Best Bet for a Good Time at a Great Price! The Horses Are Ready. Are You? \nClick Here to Purchase Tickets
URL:https://www.lonestarpark.com/event/thoroughbred-racing-season-28/
LOCATION:Lone Star Park Grandstand\, 1000 Lone Star Pkwy\, Grand Prairie\, TX\, 75050
CATEGORIES:Live Thoroughbred Racing,Ticket Discounts
ATTACH;FMTTYPE=image/png:https://www.lonestarpark.com/wp-content/uploads/2022/03/21VBO_Generic.png
END:VEVENT
BEGIN:VEVENT
DTSTART;TZID=America/Chicago:20220715T170000
DTEND;TZID=America/Chicago:20220715T220000
DTSTAMP:20260423T115156
CREATED:20210228T230856Z
LAST-MODIFIED:20220715T001246Z
UID:10000091-1657904400-1657922400@www.lonestarpark.com
SUMMARY:Lone Star Summer Betting Challenge Feeder
DESCRIPTION:In the Event that Lone Star races are cancelled; Simulcast races will be used if need be. The Tournament will go on as planned.\nWin your Entry into the Lone Star Summer Betting Challenge!\n$300 Buy-In\nLive Money Format | 100% Player Bankroll | No Entry Fee\nPrize Pool 100% funded by Lone Star Park\n1-in-8 Odds or Better to earn a $1\,000 Bankroll to the Lone Star Summer Betting Challenge\nFriday\, July 15\nCLICK HERE TO DOWNLOAD THE FOLLOWING MATERIALS: \n\nDRF-format Past Performances for both days\nEquibase-format Past Performances for both days\nOfficial Rules\nFAQs\nScore Sheets (designating what races are the “Early” races and the “Late” races) for both days\nCurrent Jockey / Trainer Standings at Lone Star\n\nFriday\, July 15: Gates open: 5:00 p.m.  | First Race: 6:35 p.m.\nSaturday\, July 16: Gates open: 9:30 a.m.  | First Race: 11:00 a.m. \n\nValet Parking is Complimentary for tournament participants on both days; Please pull in to “Gate 5” from Lone Star Pkwy\, tell the attendant that you are with the “Handicapping Tournament”.\nFrom the valet\, proceed to the Will Call booth\, inform the attendant that you are with the “Handicapping Tournament” and they will grant you an admission ticket for entrance. Please proceed up to Level 4 “Silks”.\nAt check-in\, Tournament Participants will receive a wristband for Food & Beverage\, which is complimentary.\nPlenty of Seating will be available\, and will be first-come\, first-served.\nMost of the tables have power adaptors. The Wifi network is named “Public” and does not require a password\, but does require that you accept the terms within a browser.\n\n– You will be asked to show a Photo ID when checking in. \n– You Must be a NHC Tour Member in order to be eligible to win a seat to the National Horseplayers Championship. Click Here to Join if you are already not a member: https://www.ntra.com/nhc/membership/ \nNOTE: Please be aware that you will need to fund your live money tournament buy-in with Cash. OR\, fund with check in advance (recommended to save time; check deadline is 4 days prior to tournament date). ATMs on site at Lone Star Park only accept debit cards and are limited to just $500 per transaction (per Texas Racing Commission rules). No credit card cash advance allowed in Texas at Race Tracks. \nPrize Purse:\n1st Place: $1\,000 Bankroll to July 15\n2nd Place: ($1\,000 Bankroll to July 15 with 8 Entries)\n3rd Place: ($1\,000 Bankroll to July 15 with 16 Entries)\n4th Place: ($1\,000 Bankroll to July 15 with 24 Entries)\n5th Place: ($1\,000 Bankroll to July 15 with 32 Entries)\n6th Place: ($1\,000 Bankroll to July 15 with 40 Entries)\n7th Place: ($1\,000 Bankroll to July 15 with 48 Entries)\n8th Place: ($1\,000 Bankroll to July 15 with 56 Entries)\n9th Place: ($1\,000 Bankroll to July 15 with 64 Entries)\n10th Place: ($1\,000 Bankroll to July 15 with 72 Entries) \nCurrent NHC Tour Membership required to earn a seat to the NHC. Non-Tour members can earn prize money only. \nContest Location: Level 4 – Silks Dining\nParticipants Receive: Free Admission & Seating in Silks Dining\, Digital Past Performances and complimentary food & beverage.* \nKeep Your Winnings | Receive Reward Points | Electrical Outlets Available | Wifi Available \nFormat: Live Money (100% Player Bankroll)\nParticipants must wager at least $300 during the “Early Race Period”. Then\, you must wager at least 50% of your current bankroll during the “Late Race Period”. If current bankroll at the end of the early race period is less than $300 then you must wager at least $150 (or “all-in” if less than $150) during the late race period. (Early & Late races will be established closer to time of event.) \nAll tournament races will be on Lone Star Park races. \nEligible Wager Types: Win\, Place\, Show & Exacta Wagering (no Trifecta\, Superfecta\, multi-race or Super Hi-Five wagers allowed) \nTournament FAQss \nLive Money Tournament Official Rules \nTo Enter: Bring Cash day of the Event \nLone Star’s On-Track Qualifiers & Feeders:\n$1\,000 Lone Star Summer Betting Challenge: Saturday\, July 16 \n*Excludes alcoholic beverages. Subject to Change. \nClick Here for full 2022 Tournament Schedule
URL:https://www.lonestarpark.com/event/2022summerfeeder/
LOCATION:Lone Star Park Grandstand\, 1000 Lone Star Pkwy\, Grand Prairie\, TX\, 75050
CATEGORIES:Tournaments
ATTACH;FMTTYPE=image/jpeg:https://www.lonestarpark.com/wp-content/uploads/2018/08/events-NHC-Live-Money-Tourny.jpg
END:VEVENT
BEGIN:VEVENT
DTSTART;TZID=America/Chicago:20220709T110000
DTEND;TZID=America/Chicago:20220709T153000
DTSTAMP:20260423T115156
CREATED:20210303T192646Z
LAST-MODIFIED:20220620T192054Z
UID:10000133-1657364400-1657380600@www.lonestarpark.com
SUMMARY:Thoroughbred Racing Season
DESCRIPTION:Gates Open: 9:30 a.m.\nFirst Live Race: 11:00 a.m.\nGeneral Admission is just $10 and General Parking is FREE!\nClick Here to Purchase Tickets for this Event \n \nStar Player Rewards 20X Bonus Points: Points earned from wagering on Lone Star Park races are increasing from 2 to 20 additional points per dollar wagered this Season! Learn More \n  \n  \n  \nLone Star Park is the only destination in DFW where you can experience the Excitement of Live Sports\, the Thrill of Winning Big and the Majestic Beauty Thoroughbred Horses doing what they do best! With Tickets starting at just $10\, we’re sure to be your Best Bet for a Good Time at a Great Price! The Horses Are Ready. Are You?
URL:https://www.lonestarpark.com/event/thoroughbred-racing-season-25/
LOCATION:Lone Star Park Grandstand\, 1000 Lone Star Pkwy\, Grand Prairie\, TX\, 75050
CATEGORIES:Live Thoroughbred Racing
ATTACH;FMTTYPE=image/png:https://www.lonestarpark.com/wp-content/uploads/2022/03/21VBO_Generic.png
END:VEVENT
BEGIN:VEVENT
DTSTART;TZID=America/Chicago:20210417T100000
DTEND;TZID=America/Chicago:20210417T160000
DTSTAMP:20260423T115156
CREATED:20210407T212232Z
LAST-MODIFIED:20210408T201235Z
UID:10000157-1618653600-1618675200@www.lonestarpark.com
SUMMARY:Job Fair
DESCRIPTION:Click Here to apply or to see open positions \nLocation is Dash for Cash room in the East Lobby on Level
URL:https://www.lonestarpark.com/event/job-fair-6/
LOCATION:Lone Star Park Grandstand\, 1000 Lone Star Pkwy\, Grand Prairie\, TX\, 75050
CATEGORIES:Job Fair
ATTACH;FMTTYPE=image/jpeg:https://www.lonestarpark.com/wp-content/uploads/2021/03/Social-Media_1_R2.jpg
END:VEVENT
BEGIN:VEVENT
DTSTART;TZID=America/Chicago:20210415T030000
DTEND;TZID=America/Chicago:20210415T190000
DTSTAMP:20260423T115156
CREATED:20210407T211940Z
LAST-MODIFIED:20210407T211940Z
UID:10000156-1618455600-1618513200@www.lonestarpark.com
SUMMARY:Job Fair
DESCRIPTION:Click Here to apply or to see open positions \nLocation is Dash for Cash room in the East Lobby on Level 1
URL:https://www.lonestarpark.com/event/job-fair-5/
LOCATION:Lone Star Park Grandstand\, 1000 Lone Star Pkwy\, Grand Prairie\, TX\, 75050
CATEGORIES:Job Fair
ATTACH;FMTTYPE=image/jpeg:https://www.lonestarpark.com/wp-content/uploads/2021/03/Social-Media_1_R2.jpg
END:VEVENT
BEGIN:VEVENT
DTSTART;TZID=America/Chicago:20210413T100000
DTEND;TZID=America/Chicago:20210413T150000
DTSTAMP:20260423T115156
CREATED:20210407T211830Z
LAST-MODIFIED:20210407T211830Z
UID:10000155-1618308000-1618326000@www.lonestarpark.com
SUMMARY:Job Fair
DESCRIPTION:Click Here to apply or to see open positions \nLocation is Dash for Cash room in the East Lobby on Level 1
URL:https://www.lonestarpark.com/event/job-fair-4/
LOCATION:Lone Star Park Grandstand\, 1000 Lone Star Pkwy\, Grand Prairie\, TX\, 75050
CATEGORIES:Job Fair
ATTACH;FMTTYPE=image/jpeg:https://www.lonestarpark.com/wp-content/uploads/2021/03/Social-Media_1_R2.jpg
END:VEVENT
BEGIN:VEVENT
DTSTART;TZID=America/Chicago:20210408T150000
DTEND;TZID=America/Chicago:20210408T190000
DTSTAMP:20260423T115156
CREATED:20210324T190214Z
LAST-MODIFIED:20210324T190214Z
UID:10000152-1617894000-1617908400@www.lonestarpark.com
SUMMARY:Job Fair
DESCRIPTION:Click Here to apply or to see open positions \nLocation is Dash for Cash room in the East Lobby on Level 1
URL:https://www.lonestarpark.com/event/job-fair-3/
LOCATION:Lone Star Park Grandstand\, 1000 Lone Star Pkwy\, Grand Prairie\, TX\, 75050
CATEGORIES:Job Fair
ATTACH;FMTTYPE=image/jpeg:https://www.lonestarpark.com/wp-content/uploads/2021/03/Social-Media_1_R2.jpg
END:VEVENT
BEGIN:VEVENT
DTSTART;TZID=America/Chicago:20210406T110000
DTEND;TZID=America/Chicago:20210406T150000
DTSTAMP:20260423T115156
CREATED:20210324T190106Z
LAST-MODIFIED:20210324T190106Z
UID:10000151-1617706800-1617721200@www.lonestarpark.com
SUMMARY:Job Fair
DESCRIPTION:Click Here to apply or to see open positions \nLocation is Dash for Cash room in the East Lobby on Level 1
URL:https://www.lonestarpark.com/event/job-fair-2/
LOCATION:Lone Star Park Grandstand\, 1000 Lone Star Pkwy\, Grand Prairie\, TX\, 75050
CATEGORIES:Job Fair
ATTACH;FMTTYPE=image/jpeg:https://www.lonestarpark.com/wp-content/uploads/2021/03/Social-Media_1_R2.jpg
END:VEVENT
BEGIN:VEVENT
DTSTART;TZID=America/Chicago:20210325T150000
DTEND;TZID=America/Chicago:20210325T190000
DTSTAMP:20260423T115156
CREATED:20210324T185531Z
LAST-MODIFIED:20210324T190427Z
UID:10000150-1616684400-1616698800@www.lonestarpark.com
SUMMARY:Job Fair
DESCRIPTION:Click Here to apply or to see open positions \nLocation is Dash for Cash room in the East Lobby on Level 1
URL:https://www.lonestarpark.com/event/job-fair/
LOCATION:Lone Star Park Grandstand\, 1000 Lone Star Pkwy\, Grand Prairie\, TX\, 75050
CATEGORIES:Job Fair
ATTACH;FMTTYPE=image/jpeg:https://www.lonestarpark.com/wp-content/uploads/2021/03/Social-Media_1_R2.jpg
END:VEVENT
END:VCALENDAR